BEGIN:VCALENDAR
VERSION:2.0
PRODID:-//eventon.com NONSGML v1.0//EN
BEGIN:VEVENT
UID:69e962f7275d8
DTSTAMP:20260423T000823
DTSTART:20241215T090000Z
DTEND:20241216T005000Z
LOCATION:In the Sanctuary 
SUMMARY:8:00 am Traditional Service
DESCRIPTION: A worship service in a traditional setting celebrating the love of Jesus through time honored means.
END:VEVENT
END:VCALENDAR