BEGIN:VCALENDAR
VERSION:2.0
PRODID:-//eventon.com NONSGML v1.0//EN
BEGIN:VEVENT
UID:69e9f04144fd2
DTSTAMP:20260423T101113
DTSTART:20260426T090000Z
DTEND:20260427T005000Z
LOCATION:In the Sanctuary 
SUMMARY:8:00 am Traditional Service
DESCRIPTION: A worship service in a traditional setting celebrating the love of Jesus through time honored means.
END:VEVENT
END:VCALENDAR