BEGIN:VCALENDAR
VERSION:2.0
PRODID:-//eventon.com NONSGML v1.0//EN
BEGIN:VEVENT
UID:69e9f1bf5fe58
DTSTAMP:20260423T101735
DTSTART:20200205T200000Z
DTEND:20200206T005000Z
LOCATION:In the Sanctuary 
SUMMARY:EQUIP - 7:00 pm
DESCRIPTION: A unique hybrid of reflective worship and interactive study “to equip God’s people for works of service\,  so that the body of Christ may be built up until we all reach unity in the faith and in the knowledge of the Son of God and become mature\,  attaining to the[..]
END:VEVENT
END:VCALENDAR