BEGIN:VCALENDAR
VERSION:2.0
PRODID:-//eventon.com NONSGML v1.0//EN
BEGIN:VEVENT
UID:69e9f1bf38038
DTSTAMP:20260423T101735
DTSTART:20260426T104500Z
DTEND:20260427T005000Z
LOCATION:Education/Classroom Wing 
SUMMARY:Sunday School
DESCRIPTION: Ages PreK-2nd grade meet in classrooms 9:45 - 10:15am. &nbsp;
END:VEVENT
END:VCALENDAR