BEGIN:VCALENDAR
VERSION:2.0
PRODID:-//eventon.com NONSGML v1.0//EN
BEGIN:VEVENT
UID:69e9f103ad161
DTSTAMP:20260423T101427
DTSTART:20260428T183000Z
DTEND:20260428T200000Z
LOCATION:
SUMMARY:6:30 pm Women's Bible Study
DESCRIPTION: All are welcome to join this casual study for fun\,  fellowship and growth in our faith and walk with Jesus.  Come as you are.
END:VEVENT
END:VCALENDAR