BEGIN:VCALENDAR
VERSION:2.0
PRODID:-//eventon.com NONSGML v1.0//EN
BEGIN:VEVENT
UID:69e9f08ff1d1d
DTSTAMP:20260423T101231
DTSTART:20260426T091500Z
DTEND:20260426T101500Z
LOCATION:In the Gym 
SUMMARY:9:15 AM Family Bible Study
DESCRIPTION: Sunday between services from 9:15-10:15.  All are welcome.
END:VEVENT
END:VCALENDAR