BEGIN:VCALENDAR
VERSION:2.0
PRODID:-//eventon.com NONSGML v1.0//EN
BEGIN:VEVENT
UID:69e9f18064367
DTSTAMP:20260423T101632
DTSTART:20260426T091500Z
DTEND:20260426T101500Z
LOCATION:Lounge 
SUMMARY:9:15 AM Visual Faith Women's Study
DESCRIPTION: Sunday between services from 9:15-10:15.
END:VEVENT
END:VCALENDAR